Package: scDiagnostics Version: 1.3.0 Command: F:\biocbuild\bbs-3.22-bioc\R\bin\R.exe CMD INSTALL scDiagnostics StartedAt: 2025-08-14 16:05:30 -0400 (Thu, 14 Aug 2025) EndedAt: 2025-08-14 16:06:59 -0400 (Thu, 14 Aug 2025) EllapsedTime: 89.0 seconds RetCode: 0 Status: OK