Package: scDiagnostics Version: 1.5.0 Command: /home/biocbuild/bbs-3.23-bioc/R/bin/R CMD INSTALL scDiagnostics StartedAt: 2025-11-05 15:25:50 -0500 (Wed, 05 Nov 2025) EndedAt: 2025-11-05 15:26:22 -0500 (Wed, 05 Nov 2025) EllapsedTime: 31.5 seconds RetCode: 0 Status: OK