Package: scDiagnostics Version: 1.5.0 Command: /home/biocbuild/bbs-3.23-bioc/R/bin/R CMD build --keep-empty-dirs --no-resave-data scDiagnostics StartedAt: 2025-11-05 19:51:57 -0500 (Wed, 05 Nov 2025) EndedAt: 2025-11-05 19:56:18 -0500 (Wed, 05 Nov 2025) EllapsedTime: 261.2 seconds RetCode: 0 Status: OK PackageFile: scDiagnostics_1.5.0.tar.gz PackageFileSize: 3.677 MiB