Package: scDesign3 Version: 1.9.0 Command: /home/biocbuild/bbs-3.23-bioc/R/bin/R CMD check --install=check:scDesign3.install-out.txt --library=/home/biocbuild/bbs-3.23-bioc/R/site-library --timings scDesign3_1.9.0.tar.gz StartedAt: 2025-11-05 03:24:16 -0500 (Wed, 05 Nov 2025) EndedAt: 2025-11-05 03:28:28 -0500 (Wed, 05 Nov 2025) EllapsedTime: 252.2 seconds RetCode: 0 Status: OK CheckDir: scDesign3.Rcheck Warnings: 0