Package: scDesign3 Version: 1.9.0 Command: /home/biocbuild/bbs-3.23-bioc/R/bin/R CMD build --keep-empty-dirs --no-resave-data scDesign3 StartedAt: 2025-11-05 19:51:49 -0500 (Wed, 05 Nov 2025) EndedAt: 2025-11-05 19:52:51 -0500 (Wed, 05 Nov 2025) EllapsedTime: 62.0 seconds RetCode: 0 Status: OK PackageFile: scDesign3_1.9.0.tar.gz PackageFileSize: 1.002 MiB