Package: scDesign3 Version: 1.7.7 Command: /Library/Frameworks/R.framework/Resources/bin/R CMD check --install=check:scDesign3.install-out.txt --library=/Library/Frameworks/R.framework/Resources/library --no-vignettes --timings scDesign3_1.7.7.tar.gz StartedAt: 2025-10-24 21:55:01 -0400 (Fri, 24 Oct 2025) EndedAt: 2025-10-24 21:56:05 -0400 (Fri, 24 Oct 2025) EllapsedTime: 63.7 seconds RetCode: 0 Status: OK CheckDir: scDesign3.Rcheck Warnings: 0