Package: scDblFinder Version: 1.23.4 Command: /home/biocbuild/R/R/bin/R CMD INSTALL scDblFinder StartedAt: 2025-10-16 22:23:36 -0000 (Thu, 16 Oct 2025) EndedAt: 2025-10-16 22:24:32 -0000 (Thu, 16 Oct 2025) EllapsedTime: 55.8 seconds RetCode: 0 Status: OK