Package: scDblFinder Version: 1.25.0 Command: /home/biocbuild/bbs-3.23-bioc/R/bin/R CMD check --install=check:scDblFinder.install-out.txt --library=/home/biocbuild/bbs-3.23-bioc/R/site-library --timings scDblFinder_1.25.0.tar.gz StartedAt: 2025-11-07 03:19:49 -0500 (Fri, 07 Nov 2025) EndedAt: 2025-11-07 03:29:00 -0500 (Fri, 07 Nov 2025) EllapsedTime: 550.6 seconds RetCode: 0 Status: OK CheckDir: scDblFinder.Rcheck Warnings: 0