Package: scDblFinder Version: 1.25.0 Command: /home/biocbuild/bbs-3.23-bioc/R/bin/R CMD build --keep-empty-dirs --no-resave-data scDblFinder StartedAt: 2025-11-05 19:50:55 -0500 (Wed, 05 Nov 2025) EndedAt: 2025-11-05 19:53:33 -0500 (Wed, 05 Nov 2025) EllapsedTime: 158.2 seconds RetCode: 0 Status: OK PackageFile: scDblFinder_1.25.0.tar.gz PackageFileSize: 2.144 MiB