Package: scDataviz Version: 1.19.0 Command: /home/biocbuild/R/R/bin/R CMD check --install=check:scDataviz.install-out.txt --library=/home/biocbuild/R/R/site-library --no-vignettes --timings scDataviz_1.19.0.tar.gz StartedAt: 2025-10-14 12:29:10 -0000 (Tue, 14 Oct 2025) EndedAt: 2025-10-14 12:34:51 -0000 (Tue, 14 Oct 2025) EllapsedTime: 341.4 seconds RetCode: 0 Status: OK CheckDir: scDataviz.Rcheck Warnings: 0