Package: scDataviz Version: 1.21.0 Command: /home/biocbuild/bbs-3.23-bioc/R/bin/R CMD INSTALL scDataviz StartedAt: 2025-11-20 15:33:22 -0500 (Thu, 20 Nov 2025) EndedAt: 2025-11-20 15:34:00 -0500 (Thu, 20 Nov 2025) EllapsedTime: 38.0 seconds RetCode: 0 Status: OK