Package: scDataviz Version: 1.21.0 Command: /home/biocbuild/bbs-3.23-bioc/R/bin/R CMD build --keep-empty-dirs --no-resave-data scDataviz StartedAt: 2025-11-20 19:49:50 -0500 (Thu, 20 Nov 2025) EndedAt: 2025-11-20 19:53:54 -0500 (Thu, 20 Nov 2025) EllapsedTime: 243.2 seconds RetCode: 0 Status: OK PackageFile: scDataviz_1.21.0.tar.gz PackageFileSize: 7.481 MiB