Package: scDataviz Version: 1.19.1 Command: /Library/Frameworks/R.framework/Resources/bin/R CMD check --install=check:scDataviz.install-out.txt --library=/Library/Frameworks/R.framework/Resources/library --no-vignettes --timings scDataviz_1.19.1.tar.gz StartedAt: 2025-10-20 01:26:17 -0400 (Mon, 20 Oct 2025) EndedAt: 2025-10-20 01:31:38 -0400 (Mon, 20 Oct 2025) EllapsedTime: 320.4 seconds RetCode: 0 Status: OK CheckDir: scDataviz.Rcheck Warnings: 0