Package: scDataviz Version: 1.19.0 Command: /Library/Frameworks/R.framework/Resources/bin/R CMD check --install=check:scDataviz.install-out.txt --library=/Library/Frameworks/R.framework/Resources/library --no-vignettes --timings scDataviz_1.19.0.tar.gz StartedAt: 2025-09-30 21:33:45 -0400 (Tue, 30 Sep 2025) EndedAt: 2025-09-30 21:35:29 -0400 (Tue, 30 Sep 2025) EllapsedTime: 104.1 seconds RetCode: 0 Status: OK CheckDir: scDataviz.Rcheck Warnings: 0