Package: scDDboost Version: 1.11.0 Command: /home/biocbuild/R/R/bin/R CMD check --install=check:scDDboost.install-out.txt --library=/home/biocbuild/R/R/site-library --no-vignettes --timings scDDboost_1.11.0.tar.gz StartedAt: 2025-10-17 13:15:54 -0000 (Fri, 17 Oct 2025) EndedAt: 2025-10-17 13:22:01 -0000 (Fri, 17 Oct 2025) EllapsedTime: 367.4 seconds RetCode: 0 Status: WARNINGS CheckDir: scDDboost.Rcheck Warnings: 1