Package: scDDboost Version: 1.11.0 Command: /home/biocbuild/R/R/bin/R CMD build --keep-empty-dirs --no-resave-data scDDboost StartedAt: 2025-10-14 03:20:16 -0000 (Tue, 14 Oct 2025) EndedAt: 2025-10-14 03:23:04 -0000 (Tue, 14 Oct 2025) EllapsedTime: 168.3 seconds RetCode: 0 Status: OK PackageFile: scDDboost_1.11.0.tar.gz PackageFileSize: 627.1 KiB