Package: scDDboost Version: 1.13.0 Command: /home/biocbuild/bbs-3.23-bioc/R/bin/R CMD INSTALL scDDboost StartedAt: 2025-11-04 15:17:56 -0500 (Tue, 04 Nov 2025) EndedAt: 2025-11-04 15:18:56 -0500 (Tue, 04 Nov 2025) EllapsedTime: 59.9 seconds RetCode: 0 Status: OK