Package: scDDboost Version: 1.13.0 Command: /home/biocbuild/bbs-3.23-bioc/R/bin/R CMD check --install=check:scDDboost.install-out.txt --library=/home/biocbuild/bbs-3.23-bioc/R/site-library --timings scDDboost_1.13.0.tar.gz StartedAt: 2025-11-06 03:30:30 -0500 (Thu, 06 Nov 2025) EndedAt: 2025-11-06 03:35:36 -0500 (Thu, 06 Nov 2025) EllapsedTime: 306.3 seconds RetCode: 0 Status: OK CheckDir: scDDboost.Rcheck Warnings: 0