Package: scDDboost Version: 1.13.0 Command: /home/biocbuild/bbs-3.23-bioc/R/bin/R CMD build --keep-empty-dirs --no-resave-data scDDboost StartedAt: 2025-11-04 19:44:37 -0500 (Tue, 04 Nov 2025) EndedAt: 2025-11-04 19:46:18 -0500 (Tue, 04 Nov 2025) EllapsedTime: 101.1 seconds RetCode: 0 Status: OK PackageFile: scDDboost_1.13.0.tar.gz PackageFileSize: 813.7 KiB