Package: scDDboost Version: 1.11.0 Command: /Library/Frameworks/R.framework/Resources/bin/R CMD build --keep-empty-dirs --no-resave-data scDDboost StartedAt: 2025-10-15 19:14:29 -0400 (Wed, 15 Oct 2025) EndedAt: 2025-10-15 19:16:39 -0400 (Wed, 15 Oct 2025) EllapsedTime: 130.7 seconds RetCode: 0 Status: OK PackageFile: scDDboost_1.11.0.tar.gz PackageFileSize: 852.4 KiB