Package: scDDboost Version: 1.11.0 Command: rm -rf scDDboost.buildbin-libdir && mkdir scDDboost.buildbin-libdir && /Users/biocbuild/BBS/utils/build-universal.sh scDDboost_1.11.0.tar.gz /Library/Frameworks/R.framework/Resources/bin/R scDDboost.buildbin-libdir StartedAt: 2025-10-16 03:15:41 -0400 (Thu, 16 Oct 2025) EndedAt: 2025-10-16 03:17:03 -0400 (Thu, 16 Oct 2025) EllapsedTime: 81.9 seconds RetCode: 0 Status: OK PackageFile: scDDboost_1.11.0.tgz PackageFileSize: 992 KiB