Package: scDDboost Version: 1.11.0 Command: /Library/Frameworks/R.framework/Resources/bin/R CMD check --install=check:scDDboost.install-out.txt --library=/Library/Frameworks/R.framework/Resources/library --no-vignettes --timings scDDboost_1.11.0.tar.gz StartedAt: 2025-10-07 21:38:18 -0400 (Tue, 07 Oct 2025) EndedAt: 2025-10-07 21:40:01 -0400 (Tue, 07 Oct 2025) EllapsedTime: 103.1 seconds RetCode: 0 Status: OK CheckDir: scDDboost.Rcheck Warnings: 0