Package: scDD Version: 1.35.0 Command: /home/biocbuild/bbs-3.23-bioc/R/bin/R CMD INSTALL scDD StartedAt: 2025-11-05 16:02:46 -0500 (Wed, 05 Nov 2025) EndedAt: 2025-11-05 16:03:20 -0500 (Wed, 05 Nov 2025) EllapsedTime: 33.9 seconds RetCode: 0 Status: OK