Package: scDD Version: 1.35.0 Command: /home/biocbuild/bbs-3.23-bioc/R/bin/R CMD build --keep-empty-dirs --no-resave-data scDD StartedAt: 2025-11-05 19:50:58 -0500 (Wed, 05 Nov 2025) EndedAt: 2025-11-05 19:52:54 -0500 (Wed, 05 Nov 2025) EllapsedTime: 116.1 seconds RetCode: 0 Status: OK PackageFile: scDD_1.35.0.tar.gz PackageFileSize: 846.7 KiB