Package: scDD Version: 1.33.0 Command: /Library/Frameworks/R.framework/Resources/bin/R CMD build --keep-empty-dirs --no-resave-data scDD StartedAt: 2025-10-09 18:59:01 -0400 (Thu, 09 Oct 2025) EndedAt: 2025-10-09 19:02:18 -0400 (Thu, 09 Oct 2025) EllapsedTime: 196.7 seconds RetCode: 0 Status: OK PackageFile: scDD_1.33.0.tar.gz PackageFileSize: 846.4 KiB