Package: scDD Version: 1.33.0 Command: rm -rf scDD.buildbin-libdir && mkdir scDD.buildbin-libdir && /Users/biocbuild/BBS/utils/build-universal.sh scDD_1.33.0.tar.gz /Library/Frameworks/R.framework/Resources/bin/R scDD.buildbin-libdir StartedAt: 2025-10-11 02:52:00 -0400 (Sat, 11 Oct 2025) EndedAt: 2025-10-11 02:52:53 -0400 (Sat, 11 Oct 2025) EllapsedTime: 52.9 seconds RetCode: 0 Status: OK PackageFile: scDD_1.33.0.tgz PackageFileSize: 1 MiB