Package: scClassify Version: 1.23.0 Command: /home/biocbuild/bbs-3.23-bioc/R/bin/R CMD INSTALL scClassify StartedAt: 2025-11-07 15:31:07 -0500 (Fri, 07 Nov 2025) EndedAt: 2025-11-07 15:31:44 -0500 (Fri, 07 Nov 2025) EllapsedTime: 36.7 seconds RetCode: 0 Status: OK