Package: scClassify Version: 1.23.0 Command: /home/biocbuild/bbs-3.23-bioc/R/bin/R CMD check --install=check:scClassify.install-out.txt --library=/home/biocbuild/bbs-3.23-bioc/R/site-library --timings scClassify_1.23.0.tar.gz StartedAt: 2025-11-08 03:31:29 -0500 (Sat, 08 Nov 2025) EndedAt: 2025-11-08 03:39:14 -0500 (Sat, 08 Nov 2025) EllapsedTime: 464.4 seconds RetCode: 0 Status: OK CheckDir: scClassify.Rcheck Warnings: 0