Package: scClassify Version: 1.23.0 Command: /home/biocbuild/bbs-3.23-bioc/R/bin/R CMD build --keep-empty-dirs --no-resave-data scClassify StartedAt: 2025-11-07 19:46:23 -0500 (Fri, 07 Nov 2025) EndedAt: 2025-11-07 19:48:02 -0500 (Fri, 07 Nov 2025) EllapsedTime: 99.1 seconds RetCode: 0 Status: OK PackageFile: scClassify_1.23.0.tar.gz PackageFileSize: 2.903 MiB