Package: scClassify Version: 1.21.0 Command: /Library/Frameworks/R.framework/Resources/bin/R CMD check --install=check:scClassify.install-out.txt --library=/Library/Frameworks/R.framework/Resources/library --no-vignettes --timings scClassify_1.21.0.tar.gz StartedAt: 2025-10-21 21:52:18 -0400 (Tue, 21 Oct 2025) EndedAt: 2025-10-21 21:54:39 -0400 (Tue, 21 Oct 2025) EllapsedTime: 140.6 seconds RetCode: 0 Status: OK CheckDir: scClassify.Rcheck Warnings: 0