Package: scCB2 Version: 1.19.0 Command: /home/biocbuild/R/R/bin/R CMD INSTALL scCB2 StartedAt: 2025-10-20 20:54:58 -0000 (Mon, 20 Oct 2025) EndedAt: 2025-10-20 20:55:51 -0000 (Mon, 20 Oct 2025) EllapsedTime: 52.9 seconds RetCode: 0 Status: OK