Package: scCB2 Version: 1.19.0 Command: /home/biocbuild/R/R/bin/R CMD build --keep-empty-dirs --no-resave-data scCB2 StartedAt: 2025-10-21 02:50:44 -0000 (Tue, 21 Oct 2025) EndedAt: 2025-10-21 02:56:29 -0000 (Tue, 21 Oct 2025) EllapsedTime: 345.5 seconds RetCode: 0 Status: OK PackageFile: scCB2_1.19.0.tar.gz PackageFileSize: 870.9 KiB