Package: scCB2 Version: 1.21.0 Command: /home/biocbuild/bbs-3.23-bioc/R/bin/R CMD INSTALL scCB2 StartedAt: 2025-11-04 15:36:33 -0500 (Tue, 04 Nov 2025) EndedAt: 2025-11-04 15:37:13 -0500 (Tue, 04 Nov 2025) EllapsedTime: 40.5 seconds RetCode: 0 Status: OK