Package: scCB2 Version: 1.21.0 Command: /home/biocbuild/bbs-3.23-bioc/R/bin/R CMD build --keep-empty-dirs --no-resave-data scCB2 StartedAt: 2025-11-04 19:43:50 -0500 (Tue, 04 Nov 2025) EndedAt: 2025-11-04 19:47:34 -0500 (Tue, 04 Nov 2025) EllapsedTime: 224.3 seconds RetCode: 0 Status: OK PackageFile: scCB2_1.21.0.tar.gz PackageFileSize: 847.2 KiB