Package: scBubbletree Version: 1.13.0 Command: /home/biocbuild/bbs-3.23-bioc/R/bin/R CMD INSTALL scBubbletree StartedAt: 2025-11-20 15:10:41 -0500 (Thu, 20 Nov 2025) EndedAt: 2025-11-20 15:11:00 -0500 (Thu, 20 Nov 2025) EllapsedTime: 19.2 seconds RetCode: 0 Status: OK