Package: scBubbletree Version: 1.13.0 Command: /home/biocbuild/bbs-3.23-bioc/R/bin/R CMD check --install=check:scBubbletree.install-out.txt --library=/home/biocbuild/bbs-3.23-bioc/R/site-library --timings scBubbletree_1.13.0.tar.gz StartedAt: 2025-11-21 03:32:53 -0500 (Fri, 21 Nov 2025) EndedAt: 2025-11-21 03:48:03 -0500 (Fri, 21 Nov 2025) EllapsedTime: 910.0 seconds RetCode: 0 Status: OK CheckDir: scBubbletree.Rcheck Warnings: 0