Package: scBFA Version: 1.25.0 Command: /home/biocbuild/bbs-3.23-bioc/R/bin/R CMD INSTALL scBFA StartedAt: 2025-11-06 15:28:00 -0500 (Thu, 06 Nov 2025) EndedAt: 2025-11-06 15:28:43 -0500 (Thu, 06 Nov 2025) EllapsedTime: 43.7 seconds RetCode: 0 Status: OK