Package: scBFA Version: 1.23.0 Command: /Library/Frameworks/R.framework/Resources/bin/R CMD build --keep-empty-dirs --no-resave-data scBFA StartedAt: 2025-10-24 18:36:47 -0400 (Fri, 24 Oct 2025) EndedAt: 2025-10-24 18:38:30 -0400 (Fri, 24 Oct 2025) EllapsedTime: 102.7 seconds RetCode: 0 Status: OK PackageFile: scBFA_1.23.0.tar.gz PackageFileSize: 1.208 MiB