Package: scBFA Version: 1.23.0 Command: rm -rf scBFA.buildbin-libdir && mkdir scBFA.buildbin-libdir && /Users/biocbuild/BBS/utils/build-universal.sh scBFA_1.23.0.tar.gz /Library/Frameworks/R.framework/Resources/bin/R scBFA.buildbin-libdir StartedAt: 2025-10-25 02:02:00 -0400 (Sat, 25 Oct 2025) EndedAt: 2025-10-25 02:03:06 -0400 (Sat, 25 Oct 2025) EllapsedTime: 65.8 seconds RetCode: 0 Status: OK PackageFile: scBFA_1.23.0.tgz PackageFileSize: 1.275 MiB