Package: scBFA Version: 1.23.0 Command: /Library/Frameworks/R.framework/Resources/bin/R CMD INSTALL scBFA StartedAt: 2025-10-14 15:13:51 -0400 (Tue, 14 Oct 2025) EndedAt: 2025-10-14 15:14:10 -0400 (Tue, 14 Oct 2025) EllapsedTime: 18.7 seconds RetCode: 0 Status: OK