Package: scBFA Version: 1.23.0 Command: /Library/Frameworks/R.framework/Resources/bin/R CMD build --keep-empty-dirs --no-resave-data scBFA StartedAt: 2025-10-14 17:37:05 -0400 (Tue, 14 Oct 2025) EndedAt: 2025-10-14 17:37:39 -0400 (Tue, 14 Oct 2025) EllapsedTime: 34.3 seconds RetCode: 0 Status: OK PackageFile: scBFA_1.23.0.tar.gz PackageFileSize: 1.212 MiB