Package: scAnnotatR Version: 1.15.0 Command: /home/biocbuild/R/R/bin/R CMD INSTALL scAnnotatR StartedAt: 2025-10-09 21:19:55 -0000 (Thu, 09 Oct 2025) EndedAt: 2025-10-09 21:20:59 -0000 (Thu, 09 Oct 2025) EllapsedTime: 64.4 seconds RetCode: 0 Status: OK