Package: scAnnotatR Version: 1.15.0 Command: /home/biocbuild/R/R/bin/R CMD build --keep-empty-dirs --no-resave-data scAnnotatR StartedAt: 2025-10-10 03:48:44 -0000 (Fri, 10 Oct 2025) EndedAt: 2025-10-10 04:00:07 -0000 (Fri, 10 Oct 2025) EllapsedTime: 682.9 seconds RetCode: 0 Status: OK PackageFile: scAnnotatR_1.15.0.tar.gz PackageFileSize: 504.6 KiB