Package: scAnnotatR Version: 1.15.0 Command: /home/biocbuild/bbs-3.22-bioc/R/bin/R CMD check --install=check:scAnnotatR.install-out.txt --library=/home/biocbuild/bbs-3.22-bioc/R/site-library --timings scAnnotatR_1.15.0.tar.gz StartedAt: 2025-10-13 03:50:23 -0400 (Mon, 13 Oct 2025) EndedAt: 2025-10-13 04:07:57 -0400 (Mon, 13 Oct 2025) EllapsedTime: 1053.5 seconds RetCode: 0 Status: WARNINGS CheckDir: scAnnotatR.Rcheck Warnings: 1