Package: scAnnotatR Version: 1.17.0 Command: /home/biocbuild/bbs-3.23-bioc/R/bin/R CMD INSTALL scAnnotatR StartedAt: 2025-11-05 15:32:47 -0500 (Wed, 05 Nov 2025) EndedAt: 2025-11-05 15:33:34 -0500 (Wed, 05 Nov 2025) EllapsedTime: 47.9 seconds RetCode: 0 Status: OK