Package: scAnnotatR Version: 1.17.0 Command: /home/biocbuild/bbs-3.23-bioc/R/bin/R CMD check --install=check:scAnnotatR.install-out.txt --library=/home/biocbuild/bbs-3.23-bioc/R/site-library --timings scAnnotatR_1.17.0.tar.gz StartedAt: 2025-11-15 03:38:42 -0500 (Sat, 15 Nov 2025) EndedAt: 2025-11-15 03:56:24 -0500 (Sat, 15 Nov 2025) EllapsedTime: 1062.0 seconds RetCode: 0 Status: WARNINGS CheckDir: scAnnotatR.Rcheck Warnings: 1