Package: scAnnotatR Version: 1.17.0 Command: /home/biocbuild/bbs-3.23-bioc/R/bin/R CMD build --keep-empty-dirs --no-resave-data scAnnotatR StartedAt: 2025-11-05 19:49:14 -0500 (Wed, 05 Nov 2025) EndedAt: 2025-11-05 19:58:53 -0500 (Wed, 05 Nov 2025) EllapsedTime: 579.5 seconds RetCode: 0 Status: OK PackageFile: scAnnotatR_1.17.0.tar.gz PackageFileSize: 562.8 KiB