Package: satuRn Version: 1.19.0 Command: /home/biocbuild/bbs-3.23-bioc/R/bin/R CMD INSTALL satuRn StartedAt: 2025-11-26 15:21:15 -0500 (Wed, 26 Nov 2025) EndedAt: 2025-11-26 15:21:40 -0500 (Wed, 26 Nov 2025) EllapsedTime: 24.7 seconds RetCode: 0 Status: OK