Package: satuRn Version: 1.19.0 Command: /home/biocbuild/bbs-3.23-bioc/R/bin/R CMD build --keep-empty-dirs --no-resave-data satuRn StartedAt: 2025-11-27 19:45:49 -0500 (Thu, 27 Nov 2025) EndedAt: 2025-11-27 19:47:08 -0500 (Thu, 27 Nov 2025) EllapsedTime: 79.1 seconds RetCode: 0 Status: OK PackageFile: satuRn_1.19.0.tar.gz PackageFileSize: 3.589 MiB