Package: satuRn Version: 1.19.0 Command: /Library/Frameworks/R.framework/Resources/bin/R CMD INSTALL satuRn StartedAt: 2025-11-21 15:13:40 -0500 (Fri, 21 Nov 2025) EndedAt: 2025-11-21 15:13:51 -0500 (Fri, 21 Nov 2025) EllapsedTime: 10.8 seconds RetCode: 0 Status: OK